BEGIN:VCALENDAR
VERSION:2.0
PRODID:-//Santa Barbara Old Spanish Days Fiesta - ECPv6.15.20//NONSGML v1.0//EN
CALSCALE:GREGORIAN
METHOD:PUBLISH
X-WR-CALNAME:Santa Barbara Old Spanish Days Fiesta
X-ORIGINAL-URL:https://www.sbfiesta.org
X-WR-CALDESC:Events for Santa Barbara Old Spanish Days Fiesta
REFRESH-INTERVAL;VALUE=DURATION:PT1H
X-Robots-Tag:noindex
X-PUBLISHED-TTL:PT1H
BEGIN:VTIMEZONE
TZID:America/Los_Angeles
BEGIN:DAYLIGHT
TZOFFSETFROM:-0800
TZOFFSETTO:-0700
TZNAME:PDT
DTSTART:20250309T100000
END:DAYLIGHT
BEGIN:STANDARD
TZOFFSETFROM:-0700
TZOFFSETTO:-0800
TZNAME:PST
DTSTART:20251102T090000
END:STANDARD
BEGIN:DAYLIGHT
TZOFFSETFROM:-0800
TZOFFSETTO:-0700
TZNAME:PDT
DTSTART:20260308T100000
END:DAYLIGHT
BEGIN:STANDARD
TZOFFSETFROM:-0700
TZOFFSETTO:-0800
TZNAME:PST
DTSTART:20261101T090000
END:STANDARD
BEGIN:DAYLIGHT
TZOFFSETFROM:-0800
TZOFFSETTO:-0700
TZNAME:PDT
DTSTART:20270314T100000
END:DAYLIGHT
BEGIN:STANDARD
TZOFFSETFROM:-0700
TZOFFSETTO:-0800
TZNAME:PST
DTSTART:20271107T090000
END:STANDARD
END:VTIMEZONE
BEGIN:VEVENT
DTSTART;TZID=America/Los_Angeles:20260805T110000
DTEND;TZID=America/Los_Angeles:20260805T220000
DTSTAMP:20260421T161523
CREATED:20260206T180712Z
LAST-MODIFIED:20260213T184909Z
UID:10000007-1785927600-1785967200@www.sbfiesta.org
SUMMARY:El Mercado De La Guerra
DESCRIPTION:The Annual Mercado de La Guerra Plaza is the heart of Fiesta. Stroll through a colorful Mexican market (across from City Hall) to feast on Spanish and Mexican-American foods\, shop for crafts and souvenirs\, and enjoy live entertainment all day and into the evening. All are welcome.
URL:https://www.sbfiesta.org/fiesta-event/el-mercado-de-la-guerra-11am-to-10pm-wednesday-saturday/2026-08-05/
LOCATION:De La Guerra Plaza\, 8 East De La Guerra Street\, Santa Barbara\, CA\, 93101\, United States
CATEGORIES:Dancing,Free Events,Music,Open to the Public
ATTACH;FMTTYPE=image/jpeg:https://www.sbfiesta.org/wp-content/uploads/2026/02/el-mercado-de-la-guerra-920x600-1.jpg
END:VEVENT
BEGIN:VEVENT
DTSTART;TZID=America/Los_Angeles:20260805T200000
DTEND;TZID=America/Los_Angeles:20260805T220000
DTSTAMP:20260421T161523
CREATED:20260206T180812Z
LAST-MODIFIED:20260213T184917Z
UID:10000003-1785960000-1785967200@www.sbfiesta.org
SUMMARY:La Fiesta Pequeña
DESCRIPTION:As the August sun slowly sets behind the “Queen of the Missions”\, experience the Franciscans’ hospitality as they welcome all to enjoy the official opening of Old Spanish Days Fiesta at this beautiful setting\, as they have since 1927. La Fiesta Pequeña\, “Little Fiesta”\, is a colorful\, historical program which includes traditional songs and dance from Californios Spirit. This event is free to the public. \nBlankets\, chairs or any other items left to reserve seating at Fiesta Pequena will not be allowed until 6 AM on Wednesday\, the morning of the show. Any items before this time will be removed and confiscated by the City Parks Department. Thank you for your compliance.
URL:https://www.sbfiesta.org/fiesta-event/la-fiesta-pequena/
LOCATION:Old Mission Santa Barbara\, 2201 Laguna Street\, Santa Barbara\, CA\, 93105\, United States
CATEGORIES:Dancing,Free Events,Music,Open to the Public
ATTACH;FMTTYPE=image/jpeg:https://www.sbfiesta.org/wp-content/uploads/2026/02/fiesta-pequena-920x600-1.jpg
END:VEVENT
END:VCALENDAR