BEGIN:VCALENDAR
VERSION:2.0
PRODID:-//Santa Barbara Old Spanish Days Fiesta - ECPv6.15.20//NONSGML v1.0//EN
CALSCALE:GREGORIAN
METHOD:PUBLISH
X-ORIGINAL-URL:https://www.sbfiesta.org
X-WR-CALDESC:Events for Santa Barbara Old Spanish Days Fiesta
REFRESH-INTERVAL;VALUE=DURATION:PT1H
X-Robots-Tag:noindex
X-PUBLISHED-TTL:PT1H
BEGIN:VTIMEZONE
TZID:America/Los_Angeles
BEGIN:DAYLIGHT
TZOFFSETFROM:-0800
TZOFFSETTO:-0700
TZNAME:PDT
DTSTART:20250309T100000
END:DAYLIGHT
BEGIN:STANDARD
TZOFFSETFROM:-0700
TZOFFSETTO:-0800
TZNAME:PST
DTSTART:20251102T090000
END:STANDARD
BEGIN:DAYLIGHT
TZOFFSETFROM:-0800
TZOFFSETTO:-0700
TZNAME:PDT
DTSTART:20260308T100000
END:DAYLIGHT
BEGIN:STANDARD
TZOFFSETFROM:-0700
TZOFFSETTO:-0800
TZNAME:PST
DTSTART:20261101T090000
END:STANDARD
BEGIN:DAYLIGHT
TZOFFSETFROM:-0800
TZOFFSETTO:-0700
TZNAME:PDT
DTSTART:20270314T100000
END:DAYLIGHT
BEGIN:STANDARD
TZOFFSETFROM:-0700
TZOFFSETTO:-0800
TZNAME:PST
DTSTART:20271107T090000
END:STANDARD
END:VTIMEZONE
BEGIN:VEVENT
DTSTART;TZID=America/Los_Angeles:20260502T170000
DTEND;TZID=America/Los_Angeles:20260502T220000
DTSTAMP:20260423T024129
CREATED:20260206T180212Z
LAST-MODIFIED:20260408T234829Z
UID:10000006-1777741200-1777759200@www.sbfiesta.org
SUMMARY:La Primavera
DESCRIPTION:Please join El Presidente 2026\, Colin Hayward\, and the entire Fiesta family for an unforgettable evening kicking off the Fiesta season. \nAs we welcome spring\, there’s no better time to celebrate at Old Spanish Days La Primavera on May 2 at the historic El Paseo Restaurant. The evening will feature authentic cuisine\, mariachi music\, and live flamenco dancing. \nThe traditional highlight will be the first performances of our newly crowned Spirit and Junior Spirit of Fiesta. \nThis year’s official Fiesta poster will be displayed as part of an incredible fundraising auction. \nThis special event supports all of the free public events during Fiesta 2026—making it a night of celebration with a meaningful purpose. \nTickets are $150 for General Admission\, $800 for a Booth for 4 People and $1\,750 for a VIP Table for 8 People. All are available via TicketSauce at the link below and include a special opportunity to support our youth dance programs and other beloved Fiesta traditions. \nBuy Tickets Now
URL:https://www.sbfiesta.org/fiesta-event/la-primavera/
LOCATION:El Paseo Restaurant\, 813 Anacapa Street\, Santa Barbara\, CA 93101\, CA\, 93101\, United States
CATEGORIES:Official Fiesta Event
ATTACH;FMTTYPE=image/jpeg:https://www.sbfiesta.org/wp-content/uploads/2026/02/la-primavera-2-920x600-1.jpg
END:VEVENT
BEGIN:VEVENT
DTSTART;TZID=America/Los_Angeles:20260618T170000
DTEND;TZID=America/Los_Angeles:20260618T220000
DTSTAMP:20260423T024129
CREATED:20260206T180412Z
LAST-MODIFIED:20260213T184822Z
UID:10000378-1781802000-1781820000@www.sbfiesta.org
SUMMARY:Fiesta Ranchera
DESCRIPTION:This is an Official Old Spanish Days Event. Join us for a festive evening at the beautiful  Rancho La Patera garden to sample appetizers\, wine\, and beer from local restaurants\, wineries\, and breweries. Enjoy performances by the 2026 Spirit and Junior Spirit of Fiesta and dance the night away\, under the stars\, with Area 51. 21 and over only. No tickets sold at the door.
URL:https://www.sbfiesta.org/fiesta-event/fiesta-ranchera/
LOCATION:Rancho La Patera & Stow House\, 304 N. Los Carneros Road\, Goleta\, CA\, 93117\, United States
CATEGORIES:Dancing,Music,Official Fiesta Event
ATTACH;FMTTYPE=image/jpeg:https://www.sbfiesta.org/wp-content/uploads/2026/02/fiesta-ranchera-920x600-1.jpg
END:VEVENT
BEGIN:VEVENT
DTSTART;TZID=America/Los_Angeles:20260801T170000
DTEND;TZID=America/Los_Angeles:20260801T220000
DTSTAMP:20260423T024129
CREATED:20260206T180612Z
LAST-MODIFIED:20260213T184852Z
UID:10000380-1785603600-1785621600@www.sbfiesta.org
SUMMARY:La Recepción del Presidente
DESCRIPTION:La Recepción del Presidente will kick off Fiesta week at the Santa Barbara Club\, where the idea of forming Old Spanish Days Fiesta into an organization was first developed 102 years ago. The evening includes an elegant dinner\, lively entertainment\, and concludes with dancing under the stars. Tickets are limited.
URL:https://www.sbfiesta.org/fiesta-event/la-recepcion-del-presidente/
LOCATION:Santa Barbara Club\, 1105 Chapala Street\, Santa Barbara\, CA\, 93101\, United States
CATEGORIES:Dancing,Music,Official Fiesta Event
ATTACH;FMTTYPE=image/jpeg:https://www.sbfiesta.org/wp-content/uploads/2026/02/la-reception-del-presidente-920x600-1.jpg
END:VEVENT
BEGIN:VEVENT
DTSTART;TZID=America/Los_Angeles:20260806T170000
DTEND;TZID=America/Los_Angeles:20260806T220000
DTSTAMP:20260423T024129
CREATED:20260206T181012Z
LAST-MODIFIED:20260423T074107Z
UID:10000385-1786035600-1786053600@www.sbfiesta.org
SUMMARY:DIGS! (Celebración de los Dignatarios)
DESCRIPTION:DIGS is Fiesta’s wildest party. This event features food from local restaurants and plenty of margaritas\, live music\, and dancing on the Zoo’s iconic hilltop. The fare and libations pair perfectly with a stunning sunset over the Pacific. Come experience the best of what the Central Coast has to offer at the fiesta of the year! \nEvent is for guests 21+ only. \nBuy Tickets Now
URL:https://www.sbfiesta.org/fiesta-event/digs-celebracion-de-los-dignatarios-5-10pm-thursday-july-31/
LOCATION:Santa Barbara Zoo\, 500 Ninos Drive\, Santa Barbara\, CA\, 93103\, United States
CATEGORIES:Dancing,Music,Official Fiesta Event,Open to the Public
ATTACH;FMTTYPE=image/jpeg:https://www.sbfiesta.org/wp-content/uploads/2026/02/digs-santa-barbara-zoo-920x600-1.jpg
END:VEVENT
BEGIN:VEVENT
DTSTART;TZID=America/Los_Angeles:20260806T200000
DTEND;TZID=America/Los_Angeles:20260806T230000
DTSTAMP:20260423T024129
CREATED:20260206T181112Z
LAST-MODIFIED:20260408T235651Z
UID:10000382-1786046400-1786057200@www.sbfiesta.org
SUMMARY:Las Noches de Ronda
DESCRIPTION:Las Noches de Ronda\, “Nights of Gaiety\,” is held in the famous Sunken Gardens of the beautiful Santa Barbara County Courthouse. The evening performances feature spectacular dances and songs from the fire of flamenco to the charm of Mexican folklórico dances. Over 200 performers entertain the crowd each night. Bring a blanket\, friends\, and family\, and enjoy!
URL:https://www.sbfiesta.org/fiesta-event/las-noches-de-ronda-8pm-10-pm-thursday-saturday/2026-08-06/
LOCATION:Santa Barbara County Courthouse Sunken Gardens\, 1100 Anacapa Street\, Santa Barbara\, CA\, 93101\, United States
CATEGORIES:Dancing,Free Events,Music,Official Fiesta Event,Open to the Public
ATTACH;FMTTYPE=image/jpeg:https://www.sbfiesta.org/wp-content/uploads/2026/02/noches-de-ronda-2-920x600-1.jpg
END:VEVENT
BEGIN:VEVENT
DTSTART;TZID=America/Los_Angeles:20260807T200000
DTEND;TZID=America/Los_Angeles:20260807T230000
DTSTAMP:20260423T024129
CREATED:20260206T181112Z
LAST-MODIFIED:20260408T235651Z
UID:10000383-1786132800-1786143600@www.sbfiesta.org
SUMMARY:Las Noches de Ronda
DESCRIPTION:Las Noches de Ronda\, “Nights of Gaiety\,” is held in the famous Sunken Gardens of the beautiful Santa Barbara County Courthouse. The evening performances feature spectacular dances and songs from the fire of flamenco to the charm of Mexican folklórico dances. Over 200 performers entertain the crowd each night. Bring a blanket\, friends\, and family\, and enjoy!
URL:https://www.sbfiesta.org/fiesta-event/las-noches-de-ronda-8pm-10-pm-thursday-saturday/2026-08-07/
LOCATION:Santa Barbara County Courthouse Sunken Gardens\, 1100 Anacapa Street\, Santa Barbara\, CA\, 93101\, United States
CATEGORIES:Dancing,Free Events,Music,Official Fiesta Event,Open to the Public
ATTACH;FMTTYPE=image/jpeg:https://www.sbfiesta.org/wp-content/uploads/2026/02/noches-de-ronda-2-920x600-1.jpg
END:VEVENT
BEGIN:VEVENT
DTSTART;TZID=America/Los_Angeles:20260808T200000
DTEND;TZID=America/Los_Angeles:20260808T230000
DTSTAMP:20260423T024129
CREATED:20260206T181112Z
LAST-MODIFIED:20260408T235651Z
UID:10000384-1786219200-1786230000@www.sbfiesta.org
SUMMARY:Las Noches de Ronda
DESCRIPTION:Las Noches de Ronda\, “Nights of Gaiety\,” is held in the famous Sunken Gardens of the beautiful Santa Barbara County Courthouse. The evening performances feature spectacular dances and songs from the fire of flamenco to the charm of Mexican folklórico dances. Over 200 performers entertain the crowd each night. Bring a blanket\, friends\, and family\, and enjoy!
URL:https://www.sbfiesta.org/fiesta-event/las-noches-de-ronda-8pm-10-pm-thursday-saturday/2026-08-08/
LOCATION:Santa Barbara County Courthouse Sunken Gardens\, 1100 Anacapa Street\, Santa Barbara\, CA\, 93101\, United States
CATEGORIES:Dancing,Free Events,Music,Official Fiesta Event,Open to the Public
ATTACH;FMTTYPE=image/jpeg:https://www.sbfiesta.org/wp-content/uploads/2026/02/noches-de-ronda-2-920x600-1.jpg
END:VEVENT
END:VCALENDAR