BEGIN:VCALENDAR
VERSION:2.0
PRODID:-//Santa Barbara Old Spanish Days Fiesta - ECPv6.15.20//NONSGML v1.0//EN
CALSCALE:GREGORIAN
METHOD:PUBLISH
X-WR-CALNAME:Santa Barbara Old Spanish Days Fiesta
X-ORIGINAL-URL:https://www.sbfiesta.org
X-WR-CALDESC:Events for Santa Barbara Old Spanish Days Fiesta
REFRESH-INTERVAL;VALUE=DURATION:PT1H
X-Robots-Tag:noindex
X-PUBLISHED-TTL:PT1H
BEGIN:VTIMEZONE
TZID:America/Los_Angeles
BEGIN:DAYLIGHT
TZOFFSETFROM:-0800
TZOFFSETTO:-0700
TZNAME:PDT
DTSTART:20250309T100000
END:DAYLIGHT
BEGIN:STANDARD
TZOFFSETFROM:-0700
TZOFFSETTO:-0800
TZNAME:PST
DTSTART:20251102T090000
END:STANDARD
BEGIN:DAYLIGHT
TZOFFSETFROM:-0800
TZOFFSETTO:-0700
TZNAME:PDT
DTSTART:20260308T100000
END:DAYLIGHT
BEGIN:STANDARD
TZOFFSETFROM:-0700
TZOFFSETTO:-0800
TZNAME:PST
DTSTART:20261101T090000
END:STANDARD
BEGIN:DAYLIGHT
TZOFFSETFROM:-0800
TZOFFSETTO:-0700
TZNAME:PDT
DTSTART:20270314T100000
END:DAYLIGHT
BEGIN:STANDARD
TZOFFSETFROM:-0700
TZOFFSETTO:-0800
TZNAME:PST
DTSTART:20271107T090000
END:STANDARD
END:VTIMEZONE
BEGIN:VEVENT
DTSTART;TZID=America/Los_Angeles:20260805T110000
DTEND;TZID=America/Los_Angeles:20260805T220000
DTSTAMP:20260423T015204
CREATED:20260206T180712Z
LAST-MODIFIED:20260423T000611Z
UID:10000007-1785927600-1785967200@www.sbfiesta.org
SUMMARY:El Mercado De La Guerra
DESCRIPTION:The Annual Mercado de La Guerra Plaza is the heart of Fiesta. Stroll through a colorful Mexican market (across from City Hall) to feast on Spanish and Mexican-American foods\, shop for crafts and souvenirs\, and enjoy live entertainment all day and into the evening. All are welcome.
URL:https://www.sbfiesta.org/fiesta-event/el-mercado-de-la-guerra-11am-to-10pm-wednesday-saturday/2026-08-05/
LOCATION:De La Guerra Plaza\, 8 East De La Guerra Street\, Santa Barbara\, CA\, 93101\, United States
CATEGORIES:Dancing,Free Events,Music,Open to the Public
ATTACH;FMTTYPE=image/jpeg:https://www.sbfiesta.org/wp-content/uploads/2026/02/el-mercado-de-la-guerra-920x600-1.jpg
END:VEVENT
BEGIN:VEVENT
DTSTART;TZID=America/Los_Angeles:20260806T110000
DTEND;TZID=America/Los_Angeles:20260806T220000
DTSTAMP:20260423T015204
CREATED:20260206T180712Z
LAST-MODIFIED:20260423T000611Z
UID:10000008-1786014000-1786053600@www.sbfiesta.org
SUMMARY:El Mercado De La Guerra
DESCRIPTION:The Annual Mercado de La Guerra Plaza is the heart of Fiesta. Stroll through a colorful Mexican market (across from City Hall) to feast on Spanish and Mexican-American foods\, shop for crafts and souvenirs\, and enjoy live entertainment all day and into the evening. All are welcome.
URL:https://www.sbfiesta.org/fiesta-event/el-mercado-de-la-guerra-11am-to-10pm-wednesday-saturday/2026-08-06/
LOCATION:De La Guerra Plaza\, 8 East De La Guerra Street\, Santa Barbara\, CA\, 93101\, United States
CATEGORIES:Dancing,Free Events,Music,Open to the Public
ATTACH;FMTTYPE=image/jpeg:https://www.sbfiesta.org/wp-content/uploads/2026/02/el-mercado-de-la-guerra-920x600-1.jpg
END:VEVENT
BEGIN:VEVENT
DTSTART;TZID=America/Los_Angeles:20260807T110000
DTEND;TZID=America/Los_Angeles:20260807T220000
DTSTAMP:20260423T015204
CREATED:20260206T180712Z
LAST-MODIFIED:20260423T000611Z
UID:10000009-1786100400-1786140000@www.sbfiesta.org
SUMMARY:El Mercado De La Guerra
DESCRIPTION:The Annual Mercado de La Guerra Plaza is the heart of Fiesta. Stroll through a colorful Mexican market (across from City Hall) to feast on Spanish and Mexican-American foods\, shop for crafts and souvenirs\, and enjoy live entertainment all day and into the evening. All are welcome.
URL:https://www.sbfiesta.org/fiesta-event/el-mercado-de-la-guerra-11am-to-10pm-wednesday-saturday/2026-08-07/
LOCATION:De La Guerra Plaza\, 8 East De La Guerra Street\, Santa Barbara\, CA\, 93101\, United States
CATEGORIES:Dancing,Free Events,Music,Open to the Public
ATTACH;FMTTYPE=image/jpeg:https://www.sbfiesta.org/wp-content/uploads/2026/02/el-mercado-de-la-guerra-920x600-1.jpg
END:VEVENT
BEGIN:VEVENT
DTSTART;TZID=America/Los_Angeles:20260808T110000
DTEND;TZID=America/Los_Angeles:20260808T220000
DTSTAMP:20260423T015204
CREATED:20260206T180712Z
LAST-MODIFIED:20260423T000611Z
UID:10000010-1786186800-1786226400@www.sbfiesta.org
SUMMARY:El Mercado De La Guerra
DESCRIPTION:The Annual Mercado de La Guerra Plaza is the heart of Fiesta. Stroll through a colorful Mexican market (across from City Hall) to feast on Spanish and Mexican-American foods\, shop for crafts and souvenirs\, and enjoy live entertainment all day and into the evening. All are welcome.
URL:https://www.sbfiesta.org/fiesta-event/el-mercado-de-la-guerra-11am-to-10pm-wednesday-saturday/2026-08-08/
LOCATION:De La Guerra Plaza\, 8 East De La Guerra Street\, Santa Barbara\, CA\, 93101\, United States
CATEGORIES:Dancing,Free Events,Music,Open to the Public
ATTACH;FMTTYPE=image/jpeg:https://www.sbfiesta.org/wp-content/uploads/2026/02/el-mercado-de-la-guerra-920x600-1.jpg
END:VEVENT
END:VCALENDAR